BEGIN:VCALENDAR
VERSION:2.0
PRODID:-//Elizabeth, NJ - ECPv6.15.20//NONSGML v1.0//EN
CALSCALE:GREGORIAN
METHOD:PUBLISH
X-WR-CALNAME:Elizabeth, NJ
X-ORIGINAL-URL:https://goelizabethnj250.com
X-WR-CALDESC:Events for Elizabeth, NJ
REFRESH-INTERVAL;VALUE=DURATION:PT1H
X-Robots-Tag:noindex
X-PUBLISHED-TTL:PT1H
BEGIN:VTIMEZONE
TZID:America/New_York
BEGIN:DAYLIGHT
TZOFFSETFROM:-0500
TZOFFSETTO:-0400
TZNAME:EDT
DTSTART:20250309T070000
END:DAYLIGHT
BEGIN:STANDARD
TZOFFSETFROM:-0400
TZOFFSETTO:-0500
TZNAME:EST
DTSTART:20251102T060000
END:STANDARD
BEGIN:DAYLIGHT
TZOFFSETFROM:-0500
TZOFFSETTO:-0400
TZNAME:EDT
DTSTART:20260308T070000
END:DAYLIGHT
BEGIN:STANDARD
TZOFFSETFROM:-0400
TZOFFSETTO:-0500
TZNAME:EST
DTSTART:20261101T060000
END:STANDARD
BEGIN:DAYLIGHT
TZOFFSETFROM:-0500
TZOFFSETTO:-0400
TZNAME:EDT
DTSTART:20270314T070000
END:DAYLIGHT
BEGIN:STANDARD
TZOFFSETFROM:-0400
TZOFFSETTO:-0500
TZNAME:EST
DTSTART:20271107T060000
END:STANDARD
END:VTIMEZONE
BEGIN:VEVENT
DTSTART;TZID=America/New_York:20260401T180000
DTEND;TZID=America/New_York:20260401T190000
DTSTAMP:20260420T205036
CREATED:20260325T132930Z
LAST-MODIFIED:20260325T134236Z
UID:2180-1775066400-1775070000@goelizabethnj250.com
SUMMARY:History of Slavery in NJ Presented by Rick Geffken
DESCRIPTION:Join historian Rick Geffken for an evening of public history at the Elizabeth Public Library as he explores the history of slavery in New Jersey in support of the 313+ Ancestors Speak Project Archive. \nThis program offers residents\, researchers\, students\, and history enthusiasts an opportunity to engage with one of the most important and often underexamined chapters in New Jersey history. Hosted in Elizabeth’s Historic Midtown District\, the presentation connects local learning with broader conversations about memory\, justice\, and the historical record. \nEvent Details:\nWednesday\, April 1\, 2026\n6:00 PM – 7:00 PM\nElizabeth Public Library – Main Branch\, 4th Floor Auditorium\n11 S. Broad St\, Elizabeth\, NJ 07202 \nJoin by Zoom:\nMeeting ID: 831 8926 4928\nPasscode: 226463 \nThis event supports the work of the 313+ Ancestors Speak Project Archive and adds meaningful context to ongoing efforts to deepen public understanding of Elizabeth’s place within the larger story of New Jersey and America. \nFrequently Asked Questions\nWhat is the History of Slavery in NJ event about?\nThe event is a public presentation by historian Rick Geffken focused on the history of slavery in New Jersey\, presented in support of the 313+ Ancestors Speak Project Archive. \nWhen is the event?\nThe event takes place on Wednesday\, April 1\, 2026\, from 6:00 PM to 7:00 PM. \nWhere is the event being held?\nIt will be held at the Elizabeth Public Library Main Branch\, 4th Floor Auditorium\, located at 11 S. Broad St\, Elizabeth\, NJ 07202. \nIs there a virtual attendance option?\nYes. Attendees can join by Zoom using Meeting ID 831 8926 4928 and Passcode 226463. \nFor more Elizabeth Public Library events click the button below: \nElizabeth Public Library Events
URL:https://goelizabethnj250.com/event/history-of-slavery-in-nj-presented-by-rick-geffken/
LOCATION:Elizabeth Public Library\, 11 South Broad Street\, Elizabeth\, NJ\, 07202\, United States
CATEGORIES:EPL Events
ATTACH;FMTTYPE=image/jpeg:https://goelizabethnj250.com/wp-content/uploads/2026/03/APRIL-313-History-of-Slavery-in-NJ-feature.png.jpg
END:VEVENT
END:VCALENDAR