BEGIN:VCALENDAR
VERSION:2.0
PRODID:-//Elizabeth, NJ - ECPv6.15.20//NONSGML v1.0//EN
CALSCALE:GREGORIAN
METHOD:PUBLISH
X-ORIGINAL-URL:https://goelizabethnj250.com
X-WR-CALDESC:Events for Elizabeth, NJ
REFRESH-INTERVAL;VALUE=DURATION:PT1H
X-Robots-Tag:noindex
X-PUBLISHED-TTL:PT1H
BEGIN:VTIMEZONE
TZID:America/New_York
BEGIN:DAYLIGHT
TZOFFSETFROM:-0500
TZOFFSETTO:-0400
TZNAME:EDT
DTSTART:20250309T070000
END:DAYLIGHT
BEGIN:STANDARD
TZOFFSETFROM:-0400
TZOFFSETTO:-0500
TZNAME:EST
DTSTART:20251102T060000
END:STANDARD
BEGIN:DAYLIGHT
TZOFFSETFROM:-0500
TZOFFSETTO:-0400
TZNAME:EDT
DTSTART:20260308T070000
END:DAYLIGHT
BEGIN:STANDARD
TZOFFSETFROM:-0400
TZOFFSETTO:-0500
TZNAME:EST
DTSTART:20261101T060000
END:STANDARD
BEGIN:DAYLIGHT
TZOFFSETFROM:-0500
TZOFFSETTO:-0400
TZNAME:EDT
DTSTART:20270314T070000
END:DAYLIGHT
BEGIN:STANDARD
TZOFFSETFROM:-0400
TZOFFSETTO:-0500
TZNAME:EST
DTSTART:20271107T060000
END:STANDARD
END:VTIMEZONE
BEGIN:VEVENT
DTSTART;TZID=America/New_York:20260513T120000
DTEND;TZID=America/New_York:20260513T120000
DTSTAMP:20260421T170816
CREATED:20260421T153644Z
LAST-MODIFIED:20260421T153644Z
UID:2316-1778673600-1778673600@goelizabethnj250.com
SUMMARY:New Jersey’s Revolutionary Rivalry: The Untold Story of Colonel Tye & Captain Huddy
DESCRIPTION:Join the Elizabeth Public Library for a compelling American Revolutions: Rev250 program featuring historian and author Rick Geffken. This special presentation explores the untold story of Colonel Tye and Captain Joshua Huddy\, two fierce rivals whose lives and legacies reveal the complexity of the Revolutionary War in New Jersey. \nThe program will take place on Wednesday\, May 13\, 2026 at 12:00 PM in the 4th Floor Auditorium of the Elizabeth Public Library Main Branch\, located at 11 S. Broad Street\, Elizabeth\, NJ 07202. \nAfter the Battle of Monmouth Courthouse\, the Revolutionary War in Monmouth County evolved into a series of violent skirmishes between local militias and British Loyalists. Among the most notable figures in this struggle were Captain Joshua Huddy\, remembered as a rebel hero\, and Colonel Tye\, a formerly enslaved Black man who escaped bondage and fought for the British. Their rivalry reveals a deeper and more layered history of war\, allegiance\, freedom\, and survival in Revolutionary New Jersey. \nIn this presentation\, Rick Geffken shares the story of these two men whose actions and beliefs left a lasting mark on the historical record. The program offers a thoughtful look at the human conflict behind the Revolution and invites attendees to consider the many perspectives that shaped the era. \nThis event is part of the growing public history conversation connected to America’s 250th anniversary and aligns strongly with the educational mission of GoElizabethNJ250\, which continues to highlight the people\, places\, and stories that shaped Elizabeth and the nation. \nEvent Details: \nWednesday\, May 13\, 2026 \n12:00 PM \nElizabeth Public Library\, Main Branch – 4th Floor Auditorium \n11 S. Broad Street\, Elizabeth\, NJ 07202 \nTo explore more local programs\, stories\, and historical content connected to Elizabeth’s 250th anniversary\, visit the GoElizabethNJ250 platform and follow the growing calendar of events across the city. \nView More GoElizabethNJ250 Events
URL:https://goelizabethnj250.com/event/new-jerseys-revolutionary-rivalry-the-untold-story-of-colonel-tye-captain-huddy/
LOCATION:Elizabeth Public Library\, 11 South Broad Street\, Elizabeth\, NJ\, 07202\, United States
CATEGORIES:EPL Events
ATTACH;FMTTYPE=image/jpeg:https://goelizabethnj250.com/wp-content/uploads/2026/04/Geffken.jpg
END:VEVENT
END:VCALENDAR