BEGIN:VCALENDAR
VERSION:2.0
PRODID:-//Elizabeth, NJ - ECPv6.15.20//NONSGML v1.0//EN
CALSCALE:GREGORIAN
METHOD:PUBLISH
X-ORIGINAL-URL:https://goelizabethnj250.com
X-WR-CALDESC:Events for Elizabeth, NJ
REFRESH-INTERVAL;VALUE=DURATION:PT1H
X-Robots-Tag:noindex
X-PUBLISHED-TTL:PT1H
BEGIN:VTIMEZONE
TZID:America/New_York
BEGIN:DAYLIGHT
TZOFFSETFROM:-0500
TZOFFSETTO:-0400
TZNAME:EDT
DTSTART:20250309T070000
END:DAYLIGHT
BEGIN:STANDARD
TZOFFSETFROM:-0400
TZOFFSETTO:-0500
TZNAME:EST
DTSTART:20251102T060000
END:STANDARD
BEGIN:DAYLIGHT
TZOFFSETFROM:-0500
TZOFFSETTO:-0400
TZNAME:EDT
DTSTART:20260308T070000
END:DAYLIGHT
BEGIN:STANDARD
TZOFFSETFROM:-0400
TZOFFSETTO:-0500
TZNAME:EST
DTSTART:20261101T060000
END:STANDARD
BEGIN:DAYLIGHT
TZOFFSETFROM:-0500
TZOFFSETTO:-0400
TZNAME:EDT
DTSTART:20270314T070000
END:DAYLIGHT
BEGIN:STANDARD
TZOFFSETFROM:-0400
TZOFFSETTO:-0500
TZNAME:EST
DTSTART:20271107T060000
END:STANDARD
END:VTIMEZONE
BEGIN:VEVENT
DTSTART;VALUE=DATE:20260505
DTEND;VALUE=DATE:20260601
DTSTAMP:20260421T155351
CREATED:20260421T163326Z
LAST-MODIFIED:20260421T163326Z
UID:2331-1777939200-1780271999@goelizabethnj250.com
SUMMARY:Industrial Revolution in Elizabeth Mini Exhibit
DESCRIPTION:Visit the Elizabeth Public Library this May for Industrial Revolution in Elizabeth\, a special mini exhibit presented as part of the library’s American Revolutions: REV250 programming. \nOn view from May 5 through May 31\, 2026\, this exhibit invites visitors to learn more about the history of the industrial revolution in Elizabeth and the city’s role in a period of major economic and civic transformation. \nThe exhibit is part of the library’s ongoing effort to commemorate the 250th anniversary of the Declaration of Independence through monthly displays that highlight revolutionary themes\, important local stories\, and notable Elizabeth figures. \nThis mini exhibit will be displayed in the Third Floor Elizabethtown Reading Room Exhibit Case at the Elizabeth Public Library Main Branch\, located at 11 S. Broad Street\, Elizabeth\, NJ 07202. \nFor residents\, students\, and visitors interested in local history\, this exhibit offers a quick but meaningful opportunity to engage with Elizabeth’s industrial past and see how the city helped shape larger American narratives. \nExhibit Details: \nMay 5–31\, 2026 \nElizabeth Public Library \nThird Floor Elizabethtown Reading Room Exhibit Case \n11 S. Broad Street\, Elizabeth\, NJ 07202 \nTo explore more historical and cultural programming connected to Elizabeth’s 250th anniversary\, visit the growing GoElizabethNJ250 events calendar. \nView More GoElizabethNJ250 Events
URL:https://goelizabethnj250.com/event/industrial-revolution-in-elizabeth-mini-exhibit/
LOCATION:Elizabeth Public Library\, 11 South Broad Street\, Elizabeth\, NJ\, 07202\, United States
CATEGORIES:EPL Events,EPL Mini Exhibits
ATTACH;FMTTYPE=image/jpeg:https://goelizabethnj250.com/wp-content/uploads/2026/04/may-mini-exhibit.jpg
END:VEVENT
END:VCALENDAR