BEGIN:VCALENDAR
VERSION:2.0
PRODID:-//Elizabeth, NJ - ECPv6.15.20//NONSGML v1.0//EN
CALSCALE:GREGORIAN
METHOD:PUBLISH
X-WR-CALNAME:Elizabeth, NJ
X-ORIGINAL-URL:https://goelizabethnj250.com
X-WR-CALDESC:Events for Elizabeth, NJ
REFRESH-INTERVAL;VALUE=DURATION:PT1H
X-Robots-Tag:noindex
X-PUBLISHED-TTL:PT1H
BEGIN:VTIMEZONE
TZID:America/New_York
BEGIN:DAYLIGHT
TZOFFSETFROM:-0500
TZOFFSETTO:-0400
TZNAME:EDT
DTSTART:20240310T070000
END:DAYLIGHT
BEGIN:STANDARD
TZOFFSETFROM:-0400
TZOFFSETTO:-0500
TZNAME:EST
DTSTART:20241103T060000
END:STANDARD
BEGIN:DAYLIGHT
TZOFFSETFROM:-0500
TZOFFSETTO:-0400
TZNAME:EDT
DTSTART:20250309T070000
END:DAYLIGHT
BEGIN:STANDARD
TZOFFSETFROM:-0400
TZOFFSETTO:-0500
TZNAME:EST
DTSTART:20251102T060000
END:STANDARD
BEGIN:DAYLIGHT
TZOFFSETFROM:-0500
TZOFFSETTO:-0400
TZNAME:EDT
DTSTART:20260308T070000
END:DAYLIGHT
BEGIN:STANDARD
TZOFFSETFROM:-0400
TZOFFSETTO:-0500
TZNAME:EST
DTSTART:20261101T060000
END:STANDARD
BEGIN:DAYLIGHT
TZOFFSETFROM:-0500
TZOFFSETTO:-0400
TZNAME:EDT
DTSTART:20270314T070000
END:DAYLIGHT
BEGIN:STANDARD
TZOFFSETFROM:-0400
TZOFFSETTO:-0500
TZNAME:EST
DTSTART:20271107T060000
END:STANDARD
END:VTIMEZONE
BEGIN:VEVENT
DTSTART;VALUE=DATE:20251001
DTEND;VALUE=DATE:20261101
DTSTAMP:20260422T063922
CREATED:20250812T145247Z
LAST-MODIFIED:20260420T194808Z
UID:1221-1759276800-1793491199@goelizabethnj250.com
SUMMARY:Launch of Elizabeth Ambassador Tourism Certification
DESCRIPTION:Elizabeth Ambassador Tourism Certification (Free\, Online)\n  Dates: Starting October 1\, 2025 (self-paced; enroll any time during the month) \n  Format: 100% Online\, On-Demand \n  Cost: Free \n  Enroll Now: \n    \n      tourismcertification.goelizabethnj.com/courses/elizabeth-ambassador\n    \n   \n\n  About the Course\n  Become an Elizabeth Ambassador and help visitors discover our city with confidence and pride. This short\, self-paced certification introduces local history highlights\, must-see attractions\, getting around\, and hospitality best practices for welcoming guests during America’s 250th and beyond. \n\n  Who Should Enroll\n  \n    Residents who love sharing Elizabeth’s story\n    Volunteers and event staff\n    Frontline teams in retail\, dining\, lodging\, transportation\, and attractions\n  \n\n  What You’ll Gain\n  \n    Elizabeth Ambassador Certificate of Completion\n    Local talking points and wayfinding basics\n    Confidence engaging with visitors and groups\n  \n\n\n\n  Frequently Asked Questions\n  \n    \n      How long does the course take?\n      \n        It’s self-paced. Most learners finish in a short session\, but you can pause and return anytime during October 2025. \n      \n    \n    \n      Is there a cost?\n      \n        No. The Elizabeth Ambassador Tourism Certification is free. \n      \n    \n    \n      Who can enroll?\n      \n        Anyone—residents\, volunteers\, and workers who want to welcome visitors to Elizabeth.
URL:https://goelizabethnj250.com/event/launch-of-elizabeth-ambassador-tourism-certification/
LOCATION:Virtual
CATEGORIES:Launch - October 2025
ATTACH;FMTTYPE=image/jpeg:https://goelizabethnj250.com/wp-content/uploads/2025/08/elizabeth-amabassador-events.jpg
ORGANIZER;CN="GoElizabethNJ250 Planning Committee":MAILTO:info@goelizabethnj250.com
END:VEVENT
BEGIN:VEVENT
DTSTART;VALUE=DATE:20260502
DTEND;VALUE=DATE:20260601
DTSTAMP:20260422T063922
CREATED:20260421T164051Z
LAST-MODIFIED:20260421T164051Z
UID:2338-1777680000-1780271999@goelizabethnj250.com
SUMMARY:May 2026 REV250 at the Elizabeth Public Library
DESCRIPTION:The Elizabeth Public Library is continuing its American Revolutions: REV250 programming with a full month of exhibits\, cultural presentations\, educational events\, and family-friendly activities across multiple library branches in Elizabeth. \nThis May 2026 lineup offers residents and visitors a variety of ways to engage with local history\, American identity\, and community storytelling as the nation approaches the 250th anniversary of the Declaration of Independence. \nRegistration is required for certain events. To register\, visit the library event calendar at elizpl.org or call (908) 354-6060 for assistance. \nFeatured May 2026 REV250 Events\nMini Exhibit: Industrial Revolution in Elizabeth \nMay 5–31\, 2026 \nMain Branch – Third Floor\, Elizabethtown Reading Room Exhibit Case \nLearn about the history of the industrial revolution in Elizabeth through this month-long mini exhibit. \nNative American Heritage Program by Carla Messinger – All Ages \nSaturday\, May 2\, 2026 at 1:00 PM \nMain Branch – Auditorium \nThis program includes a lecture\, demonstration\, hands-on exhibits\, and craft projects for children. \nRegistration required. \nCandle Making – Adult Program \nThursday\, May 7\, 2026 at 3:30 PM \nEPort Branch \nExperience firsthand how challenging candle production was before the Industrial Revolution transformed mass manufacturing. \nNew Jersey’s Revolutionary Rivalry by Rick Geffken – Adult Program \nWednesday\, May 13\, 2026 at 12:00 PM \nMain Branch \nAuthor Rick Geffken explores the stories of Captain Joshua Huddy and Colonel Tye in a powerful program on Revolutionary New Jersey. \nThis is a joint program between the Elizabeth Public Library and the Union County Office of Cultural & Heritage Affairs. \nMake Your Own Amber Fossils Craft – Children’s Program \nWednesday\, May 13\, 2026 at 4:00 PM \nMain Branch \nChildren can create their own ancient treasure in this fun and engaging craft activity. \nPatriotic Wind Chime – Children’s Program \nThursday\, May 14\, 2026 at 4:00 PM \nLaCorte Branch \nKids can paint\, decorate\, and design their own red\, white\, and blue keepsake while celebrating patriotic holidays. \nRegistration required. Limit 20 people. \nAmerica 250: A Musical Journey by Dan Furnald – Adult Program \nThursday\, May 28\, 2026 at 10:15 AM \nElmora Branch \nThrough songs and styles from many eras and cultures\, this program explores how music has helped tell America’s story from its earliest roots to today. \nRegistration required. \nThese programs reflect the Elizabeth Public Library’s ongoing role as a civic and cultural anchor in the city\, while also complementing the broader public storytelling mission of GoElizabethNJ250. \nWhether you are interested in local industrial history\, Revolutionary-era figures\, Native heritage\, music\, or hands-on family programming\, the May REV250 calendar offers multiple ways to explore Elizabeth’s place in the American story. \nLibrary Locations: \nMain Branch: 11 S. Broad St\, Elizabeth\, NJ 07202 \nElmora Branch: 740 W. Grand St\, Elizabeth\, NJ 07202 \nLaCorte Branch: 418-424 Palmer St\, Elizabeth\, NJ 07202 \nEPort Branch: 102-110 3rd St at E. Jersey St\, Elizabeth\, NJ 07206 \nView More GoElizabethNJ250 Events
URL:https://goelizabethnj250.com/event/may-2026-rev250-at-the-elizabeth-public-library/
LOCATION:Elizabeth Public Library\, 11 South Broad Street\, Elizabeth\, NJ\, 07202\, United States
CATEGORIES:EPL Events
ATTACH;FMTTYPE=image/jpeg:https://goelizabethnj250.com/wp-content/uploads/2026/04/rev250-2026.jpg
END:VEVENT
BEGIN:VEVENT
DTSTART;VALUE=DATE:20260505
DTEND;VALUE=DATE:20260601
DTSTAMP:20260422T063922
CREATED:20260421T163326Z
LAST-MODIFIED:20260421T163326Z
UID:2331-1777939200-1780271999@goelizabethnj250.com
SUMMARY:Industrial Revolution in Elizabeth Mini Exhibit
DESCRIPTION:Visit the Elizabeth Public Library this May for Industrial Revolution in Elizabeth\, a special mini exhibit presented as part of the library’s American Revolutions: REV250 programming. \nOn view from May 5 through May 31\, 2026\, this exhibit invites visitors to learn more about the history of the industrial revolution in Elizabeth and the city’s role in a period of major economic and civic transformation. \nThe exhibit is part of the library’s ongoing effort to commemorate the 250th anniversary of the Declaration of Independence through monthly displays that highlight revolutionary themes\, important local stories\, and notable Elizabeth figures. \nThis mini exhibit will be displayed in the Third Floor Elizabethtown Reading Room Exhibit Case at the Elizabeth Public Library Main Branch\, located at 11 S. Broad Street\, Elizabeth\, NJ 07202. \nFor residents\, students\, and visitors interested in local history\, this exhibit offers a quick but meaningful opportunity to engage with Elizabeth’s industrial past and see how the city helped shape larger American narratives. \nExhibit Details: \nMay 5–31\, 2026 \nElizabeth Public Library \nThird Floor Elizabethtown Reading Room Exhibit Case \n11 S. Broad Street\, Elizabeth\, NJ 07202 \nTo explore more historical and cultural programming connected to Elizabeth’s 250th anniversary\, visit the growing GoElizabethNJ250 events calendar. \nView More GoElizabethNJ250 Events
URL:https://goelizabethnj250.com/event/industrial-revolution-in-elizabeth-mini-exhibit/
LOCATION:Elizabeth Public Library\, 11 South Broad Street\, Elizabeth\, NJ\, 07202\, United States
CATEGORIES:EPL Events,EPL Mini Exhibits
ATTACH;FMTTYPE=image/jpeg:https://goelizabethnj250.com/wp-content/uploads/2026/04/may-mini-exhibit.jpg
END:VEVENT
BEGIN:VEVENT
DTSTART;TZID=America/New_York:20260612T183000
DTEND;TZID=America/New_York:20260612T183000
DTSTAMP:20260422T063922
CREATED:20260406T165304Z
LAST-MODIFIED:20260421T145946Z
UID:2248-1781289000-1781289000@goelizabethnj250.com
SUMMARY:Elizabeth Athletic Hall of Fame Class of 2026 Induction Ceremony
DESCRIPTION:The Elizabeth Athletic Hall of Fame will celebrate its Class of 2026 with an evening dedicated to athletic excellence\, community pride\, and the enduring legacy of Elizabeth sports. \nThe Elizabeth Athletic Hall of Fame Class of 2026 Induction Ceremony will take place on Friday\, June 12\, 2026 at 6:00 PM at Galloping Hills Caterers\, 325 Chestnut Street\, Union\, New Jersey. This formal evening will recognize a distinguished group of athletes and contributors whose impact continues to shape Elizabeth’s rich sports history. \nThe Class of 2026 includes Art Carrington\, Jamil Jackson\, Asad Abdul-Khaliq\, Anthony Mendes\, Derrick Rolon\, Naimah Smith\, and Lawrence Thomas. The ceremony will also honor the 1970 Thomas Jefferson Football Team and include a Posthumous Induction for James D. Milazzo. \nThis annual induction ceremony is more than an awards night. It is a celebration of excellence\, discipline\, teamwork\, and the athletes\, coaches\, and contributors who have helped define Elizabeth’s proud athletic tradition across generations. \nTickets are $100\, and formal attire is required. – Visit https://elizabethathletichof.org/ for Sponsorship and Ticket Informatio \n\nEvent Details\nEvent: Elizabeth Athletic Hall of Fame Class of 2026 Induction Ceremony\nDate: Friday\, June 12\, 2026\nTime: 6:00 PM\nLocation: Galloping Hills Caterers\nAddress: 325 Chestnut St\, Union\, NJ\nTickets: $100\nDress Code: Formal Attire Required \n\nClass of 2026 Honorees\nArt Carrington\nJamil Jackson\nAsad Abdul-Khaliq\nAnthony Mendes\nDerrick Rolon\nNaimah Smith\nLawrence Thomas \nTeam Induction:\n1970 Thomas Jefferson Football Team \nPosthumous Induction:\nJames D. Milazzo \n\nFrequently Asked Questions\nWhen is the Elizabeth Athletic Hall of Fame Class of 2026 Induction Ceremony?\nThe ceremony will be held on Friday\, June 12\, 2026 at 6:00 PM. \nWhere is the event being held?\nThe event will take place at Galloping Hills Caterers\, 325 Chestnut Street\, Union\, New Jersey. \nHow much are tickets?\nTickets are $100. \nIs there a dress code?\nYes. Formal attire is required. \nWho is being honored at the event?\nThe ceremony will honor the Elizabeth Athletic Hall of Fame Class of 2026\, the 1970 Thomas Jefferson Football Team\, and James D. Milazzo through a posthumous induction.
URL:https://goelizabethnj250.com/event/elizabeth-athletic-hall-of-fame-class-of-2026-induction-ceremony/
LOCATION:Galloping Hill Caterers\, 325 Chestnut St\, Union\, NJ\, 07083\, United States
CATEGORIES:Elizabeth Athletic Hall of Fame Associatio
ATTACH;FMTTYPE=image/jpeg:https://goelizabethnj250.com/wp-content/uploads/2026/04/EAHOF-2026-Induction-feature.jpg
END:VEVENT
BEGIN:VEVENT
DTSTART;TZID=America/New_York:20260620T100000
DTEND;TZID=America/New_York:20260620T170000
DTSTAMP:20260422T063922
CREATED:20260406T163145Z
LAST-MODIFIED:20260406T163145Z
UID:2236-1781949600-1781974800@goelizabethnj250.com
SUMMARY:Juneteenth Celebration: Final Brick Laying Ceremony
DESCRIPTION:Join the 313+ Ancestors Speak Project for a special Juneteenth gathering in Elizabeth\, New Jersey\, as the community comes together to honor Black history\, legacy\, and remembrance at the 313+ Ancestors Speaks Monument. \nScheduled for Saturday\, June 20\, 2026 at 10:00 AM\, this meaningful event will take place at the 313+ Ancestors Speaks Monument at Old First Cemetery\, 42 Broad Street\, Elizabeth\, NJ 07201. The program will include the unveiling of newly installed commemorative bricks at the foot of the monument\, creating a public moment of reflection for the names and stories that continue to speak through this important site. \nAs part of the Juneteenth celebration\, attendees will also experience a special historical reenactment designed to deepen the connection between memory\, place\, and community. This gathering is more than a ceremony. It is a chance to reflect\, remember\, and celebrate in a setting that speaks directly to Elizabeth’s Black history and the city’s broader cultural story. \nThis event is also part of the GoElizabethNJ250 story\, helping connect local history\, heritage tourism\, and community engagement as Elizabeth approaches America’s 250th anniversary. It stands as a strong example of how public history can create meaningful civic experiences for residents and visitors alike. \nInterested in being part of the installation? Purchase your commemorative brick by May 22\, 2026 to be included in this phase of the project. \nFor additional inquiries:\ninfo@313ancestorsspeakproject.org \n\nEvent Details\nEvent: Juneteenth Celebration: Final Brick Laying Ceremony\nDate: Saturday\, June 20\, 2026\nTime: 10:00 AM\nLocation: 313+ Ancestors Speaks Monument at Old First Cemetery\nAddress: 42 Broad St.\, Elizabeth\, NJ 07201 \n\nFrequently Asked Questions\nWhat is the Juneteenth Celebration: Final Brick Laying Ceremony?\nIt is a special community event hosted by the 313+ Ancestors Speak Project at the 313+ Ancestors Speaks Monument\, featuring the unveiling of newly installed commemorative bricks and a historical reenactment experience. \nWhen is the event?\nThe event will take place on Saturday\, June 20\, 2026 at 10:00 AM. \nWhere is the event being held?\nThe ceremony will be held at the 313+ Ancestors Speaks Monument at Old First Cemetery\, located at 42 Broad Street in Elizabeth\, New Jersey. \nWhat can attendees expect?\nAttendees can expect a commemorative brick unveiling\, a special historical reenactment\, and a meaningful Juneteenth gathering centered on reflection\, remembrance\, and celebration. \nCan I still purchase a commemorative brick?\nYes. Bricks must be purchased by May 22\, 2026 to be included in this installation phase. \nWhy is this event important?\nThis event honors the legacy represented by the 313+ Ancestors Speaks Monument while also supporting Black history\, cultural tourism\, and the larger GoElizabethNJ250 campaign.
URL:https://goelizabethnj250.com/event/juneteenth-celebration-final-brick-laying-ceremony/
LOCATION:313+ Ancestors Speak Monument\, 42 Broad St.\, Elizabeth\, NJ\, 07201\, United States
CATEGORIES:313+ Ancestors Speak Project,GoElizabethNJ250 Event
ATTACH;FMTTYPE=image/jpeg:https://goelizabethnj250.com/wp-content/uploads/2026/04/Juneteenth-brick-laying-event-feature.jpg
ORGANIZER;CN="313+ Ancestors Speak Project":MAILTO:info@313AncestorsSpeakProject.org
END:VEVENT
BEGIN:VEVENT
DTSTART;TZID=America/New_York:20260704T100000
DTEND;TZID=America/New_York:20260704T100000
DTSTAMP:20260422T063922
CREATED:20260227T145908Z
LAST-MODIFIED:20260413T180340Z
UID:2003-1783159200-1783159200@goelizabethnj250.com
SUMMARY:Elizabeth 4th of July Celebration 2026
DESCRIPTION:  \nElizabeth NJ 4th of July Celebration 2026\nCelebrate Independence Day in the city where New Jersey’s story began. \nThe Elizabeth 4th of July Celebration 2026 brings together America’s 250th Anniversary and an Official World Cup Fan Zone Watch Party for a full-day waterfront celebration at Veteran’s Memorial Waterfront Park. \nThis expanded summer event blends patriotic tradition\, international energy\, and citywide pride with family-friendly activities\, live entertainment\, and a fireworks finale at dusk. \n\n\n\nEvent Details\n\nDate: July 4\, 2026\nStart Time: 10:00 AM\nFireworks: At Dusk\nLocation: Veteran’s Memorial Waterfront Park\nAddress Cross Streets: Elizabeth Avenue & Front Street\, Elizabeth\, NJ\n\nWhat to Expect\n\nAmerica’s 250th Anniversary Celebration\nOfficial World Cup Fan Zone Watch Party\nParade of Nations\nSail 4th 250 Tall Ships\nMultigenerational Soccer Clinics\nTournaments\nVendors\nLive Performances\nMusic\nRides\nArt Spaces\nGames\nFood\nFireworks at Dusk\n\nSet along the Elizabeth waterfront\, this celebration reflects the city’s role as a place where American history\, cultural diversity\, and civic energy come together. It is more than a holiday event — it is a public celebration of Elizabeth’s place in the national story. \nWhether you’re coming for the patriotic atmosphere\, the soccer energy\, the waterfront experience\, or the fireworks\, this is one of Elizabeth’s signature summer events of 2026. \n\nPlan Your Visit\nTurn the celebration into a full Elizabeth experience. Explore nearby restaurants\, discover historic landmarks\, follow upcoming GoElizabethNJ250 events\, and enjoy one of Union County’s most distinctive waterfront destinations while celebrating July 4th in Elizabeth. \n\nQuick Facts\n\nDate: July 4\, 2026\nTime: Starts at 10:00 AM\nFireworks: At Dusk\nLocation: Veteran’s Memorial Waterfront Park\nAddress: Elizabeth Avenue & Front Street\, Elizabeth\, NJ\nHighlights: Parade of Nations\, Official World Cup Fan Zone Watch Party\, Sail 4th 250 Tall Ships\, soccer clinics\, food\, performances\, rides\, and games\n\n\nFrequently Asked Questions\nWhat time does the Elizabeth 4th of July Celebration 2026 start?\nThe event starts at 10:00 AM on July 4\, 2026. \nWhere is the Elizabeth 4th of July Celebration 2026 held?\nIt takes place at Veteran’s Memorial Waterfront Park at Elizabeth Avenue and Front Street in Elizabeth\, New Jersey. \nWill there be fireworks?\nYes. Fireworks are scheduled for dusk. \nWhat makes this event different from a typical July 4th celebration?\nThis event combines America’s 250th Anniversary celebration with an Official World Cup Fan Zone Watch Party\, Parade of Nations\, tall ships\, soccer programming\, and a full day of family-friendly activities. \nWill there be family-friendly activities?\nYes. The event includes rides\, games\, food\, art spaces\, performances\, and multigenerational soccer activities.
URL:https://goelizabethnj250.com/event/elizabeth-4th-of-july-celebration-2026/
LOCATION:Veterans Memorial Waterfront Park\, Elizabeth Ave & Front St\, Elizabeth\, NJ\, United States
CATEGORIES:GECC Events,GoElizabethNJ250 Event
ATTACH;FMTTYPE=image/jpeg:https://goelizabethnj250.com/wp-content/uploads/2026/02/Events-feature-2.jpg
ORGANIZER;CN="GoElizabethNJ250 Planning Committee":MAILTO:info@goelizabethnj250.com
END:VEVENT
END:VCALENDAR