BEGIN:VCALENDAR
VERSION:2.0
PRODID:-//Elizabeth, NJ - ECPv6.15.20//NONSGML v1.0//EN
CALSCALE:GREGORIAN
METHOD:PUBLISH
X-WR-CALNAME:Elizabeth, NJ
X-ORIGINAL-URL:https://goelizabethnj250.com
X-WR-CALDESC:Events for Elizabeth, NJ
REFRESH-INTERVAL;VALUE=DURATION:PT1H
X-Robots-Tag:noindex
X-PUBLISHED-TTL:PT1H
BEGIN:VTIMEZONE
TZID:America/New_York
BEGIN:DAYLIGHT
TZOFFSETFROM:-0500
TZOFFSETTO:-0400
TZNAME:EDT
DTSTART:20250309T070000
END:DAYLIGHT
BEGIN:STANDARD
TZOFFSETFROM:-0400
TZOFFSETTO:-0500
TZNAME:EST
DTSTART:20251102T060000
END:STANDARD
BEGIN:DAYLIGHT
TZOFFSETFROM:-0500
TZOFFSETTO:-0400
TZNAME:EDT
DTSTART:20260308T070000
END:DAYLIGHT
BEGIN:STANDARD
TZOFFSETFROM:-0400
TZOFFSETTO:-0500
TZNAME:EST
DTSTART:20261101T060000
END:STANDARD
BEGIN:DAYLIGHT
TZOFFSETFROM:-0500
TZOFFSETTO:-0400
TZNAME:EDT
DTSTART:20270314T070000
END:DAYLIGHT
BEGIN:STANDARD
TZOFFSETFROM:-0400
TZOFFSETTO:-0500
TZNAME:EST
DTSTART:20271107T060000
END:STANDARD
END:VTIMEZONE
BEGIN:VEVENT
DTSTART;VALUE=DATE:20260502
DTEND;VALUE=DATE:20260601
DTSTAMP:20260421T185456
CREATED:20260421T164051Z
LAST-MODIFIED:20260421T164051Z
UID:2338-1777680000-1780271999@goelizabethnj250.com
SUMMARY:May 2026 REV250 at the Elizabeth Public Library
DESCRIPTION:The Elizabeth Public Library is continuing its American Revolutions: REV250 programming with a full month of exhibits\, cultural presentations\, educational events\, and family-friendly activities across multiple library branches in Elizabeth. \nThis May 2026 lineup offers residents and visitors a variety of ways to engage with local history\, American identity\, and community storytelling as the nation approaches the 250th anniversary of the Declaration of Independence. \nRegistration is required for certain events. To register\, visit the library event calendar at elizpl.org or call (908) 354-6060 for assistance. \nFeatured May 2026 REV250 Events\nMini Exhibit: Industrial Revolution in Elizabeth \nMay 5–31\, 2026 \nMain Branch – Third Floor\, Elizabethtown Reading Room Exhibit Case \nLearn about the history of the industrial revolution in Elizabeth through this month-long mini exhibit. \nNative American Heritage Program by Carla Messinger – All Ages \nSaturday\, May 2\, 2026 at 1:00 PM \nMain Branch – Auditorium \nThis program includes a lecture\, demonstration\, hands-on exhibits\, and craft projects for children. \nRegistration required. \nCandle Making – Adult Program \nThursday\, May 7\, 2026 at 3:30 PM \nEPort Branch \nExperience firsthand how challenging candle production was before the Industrial Revolution transformed mass manufacturing. \nNew Jersey’s Revolutionary Rivalry by Rick Geffken – Adult Program \nWednesday\, May 13\, 2026 at 12:00 PM \nMain Branch \nAuthor Rick Geffken explores the stories of Captain Joshua Huddy and Colonel Tye in a powerful program on Revolutionary New Jersey. \nThis is a joint program between the Elizabeth Public Library and the Union County Office of Cultural & Heritage Affairs. \nMake Your Own Amber Fossils Craft – Children’s Program \nWednesday\, May 13\, 2026 at 4:00 PM \nMain Branch \nChildren can create their own ancient treasure in this fun and engaging craft activity. \nPatriotic Wind Chime – Children’s Program \nThursday\, May 14\, 2026 at 4:00 PM \nLaCorte Branch \nKids can paint\, decorate\, and design their own red\, white\, and blue keepsake while celebrating patriotic holidays. \nRegistration required. Limit 20 people. \nAmerica 250: A Musical Journey by Dan Furnald – Adult Program \nThursday\, May 28\, 2026 at 10:15 AM \nElmora Branch \nThrough songs and styles from many eras and cultures\, this program explores how music has helped tell America’s story from its earliest roots to today. \nRegistration required. \nThese programs reflect the Elizabeth Public Library’s ongoing role as a civic and cultural anchor in the city\, while also complementing the broader public storytelling mission of GoElizabethNJ250. \nWhether you are interested in local industrial history\, Revolutionary-era figures\, Native heritage\, music\, or hands-on family programming\, the May REV250 calendar offers multiple ways to explore Elizabeth’s place in the American story. \nLibrary Locations: \nMain Branch: 11 S. Broad St\, Elizabeth\, NJ 07202 \nElmora Branch: 740 W. Grand St\, Elizabeth\, NJ 07202 \nLaCorte Branch: 418-424 Palmer St\, Elizabeth\, NJ 07202 \nEPort Branch: 102-110 3rd St at E. Jersey St\, Elizabeth\, NJ 07206 \nView More GoElizabethNJ250 Events
URL:https://goelizabethnj250.com/event/may-2026-rev250-at-the-elizabeth-public-library/
LOCATION:Elizabeth Public Library\, 11 South Broad Street\, Elizabeth\, NJ\, 07202\, United States
CATEGORIES:EPL Events
ATTACH;FMTTYPE=image/jpeg:https://goelizabethnj250.com/wp-content/uploads/2026/04/rev250-2026.jpg
END:VEVENT
BEGIN:VEVENT
DTSTART;TZID=America/New_York:20260502T130000
DTEND;TZID=America/New_York:20260502T130000
DTSTAMP:20260421T185456
CREATED:20260421T162325Z
LAST-MODIFIED:20260421T162325Z
UID:2323-1777726800-1777726800@goelizabethnj250.com
SUMMARY:Native American Heritage Program at Elizabeth Public Library
DESCRIPTION:Join the Elizabeth Public Library for a meaningful and interactive Native American Heritage Program presented by Carla Messinger on Saturday\, May 2\, 2026 at 1:00 PM in the Main Branch – 4th Floor Auditorium. \nThis special program celebrates the local Lenape (Delaware Indian) culture and the broader contributions of Native Americans through an engaging presentation designed for both adults and children. Attendees will experience a combination of lecture\, demonstration\, hands-on interactive exhibits\, and craft projects for children. \nCarla Messinger is a cultural educator from Pennsylvania who has lived there her entire life. She is descended from the Lenape people who remained in Pennsylvania while other Lenape communities migrated west. Her presentation offers an opportunity to learn more about Native heritage through personal\, cultural\, and historical perspectives. \nThis event is a strong fit for the broader public history and educational mission connected to GoElizabethNJ250\, helping residents and visitors explore the many cultural stories that shape Elizabeth and the American experience. \nRegistration is required. Please register through the Elizabeth Public Library event calendar at elizpl.org or call 908-354-6060 ext. 7220 for assistance. \nPlease note that photography and recording are not permitted during this program. \nEvent Details: \nSaturday\, May 2\, 2026 \n1:00 PM \nElizabeth Public Library\, Main Branch – 4th Floor Auditorium \n11 S. Broad Street\, Elizabeth\, NJ 07202 \nTo discover more historical\, cultural\, and community events connected to Elizabeth’s 250th anniversary\, explore the growing calendar and storytelling platform at GoElizabethNJ250. \nView More GoElizabethNJ250 Events
URL:https://goelizabethnj250.com/event/native-american-heritage-program-at-elizabeth-public-library/
LOCATION:Elizabeth Public Library\, 11 South Broad Street\, Elizabeth\, NJ\, 07202\, United States
CATEGORIES:EPL Events
ATTACH;FMTTYPE=image/jpeg:https://goelizabethnj250.com/wp-content/uploads/2026/04/native-heritage.jpg
END:VEVENT
END:VCALENDAR